BEGIN:VCALENDAR
VERSION:2.0
PRODID:-//wp-events-plugin.com//7.2.3.1//EN
BEGIN:VEVENT
UID:10@msacaa.org
DTSTART;VALUE=DATE:20251118
DTEND;VALUE=DATE:20251122
DTSTAMP:20250819T185710Z
URL:https://msacaa.org/events/macaa-state-conference/
SUMMARY:MACAA State Conference
DESCRIPTION:MACAA State Conference Registration is now live! Register now f
 or the conference slated for Nov. 18-21. 2025\, at the Beau Rivage in Bilo
 xi!
CATEGORIES:MACAA Conference
END:VEVENT
END:VCALENDAR